BEGIN:VCALENDAR
VERSION:2.0
PRODID:-//SCCHA - ECPv6.15.17.1//NONSGML v1.0//EN
CALSCALE:GREGORIAN
METHOD:PUBLISH
X-ORIGINAL-URL:https://www.scchousingauthority.org
X-WR-CALDESC:Events for SCCHA
REFRESH-INTERVAL;VALUE=DURATION:PT1H
X-Robots-Tag:noindex
X-PUBLISHED-TTL:PT1H
BEGIN:VTIMEZONE
TZID:America/Los_Angeles
BEGIN:DAYLIGHT
TZOFFSETFROM:-0800
TZOFFSETTO:-0700
TZNAME:PDT
DTSTART:20230312T100000
END:DAYLIGHT
BEGIN:STANDARD
TZOFFSETFROM:-0700
TZOFFSETTO:-0800
TZNAME:PST
DTSTART:20231105T090000
END:STANDARD
BEGIN:DAYLIGHT
TZOFFSETFROM:-0800
TZOFFSETTO:-0700
TZNAME:PDT
DTSTART:20240310T100000
END:DAYLIGHT
BEGIN:STANDARD
TZOFFSETFROM:-0700
TZOFFSETTO:-0800
TZNAME:PST
DTSTART:20241103T090000
END:STANDARD
BEGIN:DAYLIGHT
TZOFFSETFROM:-0800
TZOFFSETTO:-0700
TZNAME:PDT
DTSTART:20250309T100000
END:DAYLIGHT
BEGIN:STANDARD
TZOFFSETFROM:-0700
TZOFFSETTO:-0800
TZNAME:PST
DTSTART:20251102T090000
END:STANDARD
END:VTIMEZONE
BEGIN:VEVENT
DTSTART;TZID=America/Los_Angeles:20241112T140000
DTEND;TZID=America/Los_Angeles:20241112T150000
DTSTAMP:20260422T014824
CREATED:20241010T091231Z
LAST-MODIFIED:20241010T091231Z
UID:3936-1731420000-1731423600@www.scchousingauthority.org
SUMMARY:Applicant Workshop - Nov 12
DESCRIPTION:Essential Applicant Workshop: Come join our free workshops to learn how to use the updated Rent Café software.
URL:https://www.scchousingauthority.org/event/applicant-workshop-nov-12/
LOCATION:Online
CATEGORIES:For Applicants
END:VEVENT
BEGIN:VEVENT
DTSTART;TZID=America/Los_Angeles:20241106T100000
DTEND;TZID=America/Los_Angeles:20241106T110000
DTSTAMP:20260422T014824
CREATED:20241010T091230Z
LAST-MODIFIED:20241010T091230Z
UID:3934-1730887200-1730890800@www.scchousingauthority.org
SUMMARY:Applicant Workshop - Nov 6
DESCRIPTION:Essential Applicant Workshop: Come join our free workshops to learn how to use the updated Rent Café software.
URL:https://www.scchousingauthority.org/event/applicant-workshop-nov-6/
LOCATION:Online
CATEGORIES:For Applicants
END:VEVENT
BEGIN:VEVENT
DTSTART;TZID=America/Los_Angeles:20241029T140000
DTEND;TZID=America/Los_Angeles:20241029T150000
DTSTAMP:20260422T014824
CREATED:20241010T091130Z
LAST-MODIFIED:20241010T091130Z
UID:3929-1730210400-1730214000@www.scchousingauthority.org
SUMMARY:Applicant Workshop - Oct 29
DESCRIPTION:Essential Applicant Workshop: Come join our free workshops to learn how to use the updated Rent Café software.
URL:https://www.scchousingauthority.org/event/applicant-workshop-oct-29/
LOCATION:Online
CATEGORIES:For Applicants
END:VEVENT
BEGIN:VEVENT
DTSTART;TZID=America/Los_Angeles:20241023T100000
DTEND;TZID=America/Los_Angeles:20241023T110000
DTSTAMP:20260422T014824
CREATED:20241010T091030Z
LAST-MODIFIED:20241010T091030Z
UID:3927-1729677600-1729681200@www.scchousingauthority.org
SUMMARY:Applicant Workshop - Oct 23
DESCRIPTION:Essential Applicant Workshop: Come join our free workshops to learn how to use the updated Rent Café software.
URL:https://www.scchousingauthority.org/event/applicant-workshop-oct-23/
LOCATION:Online
CATEGORIES:For Applicants
END:VEVENT
BEGIN:VEVENT
DTSTART;TZID=America/Los_Angeles:20241015T180000
DTEND;TZID=America/Los_Angeles:20241015T190000
DTSTAMP:20260422T014824
CREATED:20241010T091027Z
LAST-MODIFIED:20241010T091027Z
UID:3921-1729015200-1729018800@www.scchousingauthority.org
SUMMARY:Applicant Workshop - Oct 15
DESCRIPTION:Essential Applicant Workshop: Come join our free workshops to learn how to use the updated Rent Café software.
URL:https://www.scchousingauthority.org/event/applicant-workshop-oct-15/
LOCATION:Online
CATEGORIES:For Applicants
END:VEVENT
END:VCALENDAR