BEGIN:VCALENDAR
VERSION:2.0
PRODID:-//SCCHA - ECPv6.15.20//NONSGML v1.0//EN
CALSCALE:GREGORIAN
METHOD:PUBLISH
X-WR-CALNAME:SCCHA
X-ORIGINAL-URL:https://www.scchousingauthority.org
X-WR-CALDESC:Events for SCCHA
REFRESH-INTERVAL;VALUE=DURATION:PT1H
X-Robots-Tag:noindex
X-PUBLISHED-TTL:PT1H
BEGIN:VTIMEZONE
TZID:America/Los_Angeles
BEGIN:DAYLIGHT
TZOFFSETFROM:-0800
TZOFFSETTO:-0700
TZNAME:PDT
DTSTART:20230312T100000
END:DAYLIGHT
BEGIN:STANDARD
TZOFFSETFROM:-0700
TZOFFSETTO:-0800
TZNAME:PST
DTSTART:20231105T090000
END:STANDARD
BEGIN:DAYLIGHT
TZOFFSETFROM:-0800
TZOFFSETTO:-0700
TZNAME:PDT
DTSTART:20240310T100000
END:DAYLIGHT
BEGIN:STANDARD
TZOFFSETFROM:-0700
TZOFFSETTO:-0800
TZNAME:PST
DTSTART:20241103T090000
END:STANDARD
BEGIN:DAYLIGHT
TZOFFSETFROM:-0800
TZOFFSETTO:-0700
TZNAME:PDT
DTSTART:20250309T100000
END:DAYLIGHT
BEGIN:STANDARD
TZOFFSETFROM:-0700
TZOFFSETTO:-0800
TZNAME:PST
DTSTART:20251102T090000
END:STANDARD
BEGIN:DAYLIGHT
TZOFFSETFROM:-0800
TZOFFSETTO:-0700
TZNAME:PDT
DTSTART:20260308T100000
END:DAYLIGHT
BEGIN:STANDARD
TZOFFSETFROM:-0700
TZOFFSETTO:-0800
TZNAME:PST
DTSTART:20261101T090000
END:STANDARD
END:VTIMEZONE
BEGIN:VEVENT
DTSTART;TZID=America/Los_Angeles:20251014T110000
DTEND;TZID=America/Los_Angeles:20251014T120000
DTSTAMP:20260424T031153
CREATED:20251208T192326Z
LAST-MODIFIED:20251208T193037Z
UID:4770-1760439600-1760443200@www.scchousingauthority.org
SUMMARY:Monthly Applicant Info Sessions - Oct 14
DESCRIPTION:Learn about the Housing Choice Voucher (HCV) and Project-Based Voucher (PBV) programs\, understand the interest lists and application process\, and get answers to common questions.
URL:https://www.scchousingauthority.org/event/monthly-applicant-info-sessions-oct-14-2/
LOCATION:Online
CATEGORIES:For Applicants
END:VEVENT
BEGIN:VEVENT
DTSTART;TZID=America/Los_Angeles:20251008T100000
DTEND;TZID=America/Los_Angeles:20251008T110000
DTSTAMP:20260424T031153
CREATED:20250702T075710Z
LAST-MODIFIED:20250702T075710Z
UID:4533-1759917600-1759921200@www.scchousingauthority.org
SUMMARY:Monthly Owner Office Hour - Oct 8
DESCRIPTION:Topic | HQS Ready: What to Expect and How to Prepare. Following the overview of the stated topic\, we’ll open the floor for a Q&A session. All questions are welcome—whether related to the office hour topic or other topics relevant to your participation in the program.
URL:https://www.scchousingauthority.org/event/monthly-owner-office-hour-oct-8/
LOCATION:Online
CATEGORIES:For Owners
END:VEVENT
BEGIN:VEVENT
DTSTART;TZID=America/Los_Angeles:20251014T110000
DTEND;TZID=America/Los_Angeles:20251014T120000
DTSTAMP:20260424T031153
CREATED:20250926T101353Z
LAST-MODIFIED:20250926T101638Z
UID:4717-1760439600-1760443200@www.scchousingauthority.org
SUMMARY:Monthly Applicant Info Sessions - Oct 14
DESCRIPTION:Learn about the Housing Choice Voucher (HCV) and Project-Based Voucher (PBV) programs\, understand the interest lists and application process\, and get answers to common questions.
URL:https://www.scchousingauthority.org/event/monthly-applicant-info-sessions-oct-14/
LOCATION:Online
CATEGORIES:For Applicants
END:VEVENT
BEGIN:VEVENT
DTSTART;TZID=America/Los_Angeles:20250910T100000
DTEND;TZID=America/Los_Angeles:20250910T110000
DTSTAMP:20260424T031153
CREATED:20250702T075709Z
LAST-MODIFIED:20250702T075709Z
UID:4532-1757498400-1757502000@www.scchousingauthority.org
SUMMARY:Monthly Owner Office Hour - Sep 10
DESCRIPTION:Topic | Managing Changes: Submitting Owner and Payee Updates. Following the overview of the stated topic\, we’ll open the floor for a Q&A session. All questions are welcome—whether related to the office hour topic or other topics relevant to your participation in the program.
URL:https://www.scchousingauthority.org/event/monthly-owner-office-hour-sep-10/
LOCATION:Online
CATEGORIES:For Owners
END:VEVENT
BEGIN:VEVENT
DTSTART;TZID=America/Los_Angeles:20250813T100000
DTEND;TZID=America/Los_Angeles:20250813T110000
DTSTAMP:20260424T031153
CREATED:20250702T075709Z
LAST-MODIFIED:20250702T075709Z
UID:4531-1755079200-1755082800@www.scchousingauthority.org
SUMMARY:Monthly Owner Office Hour - Aug 13
DESCRIPTION:Topic | RFTA 101: How to Successfully Submit a Request for Tenancy Approval. Following the overview of the stated topic\, we’ll open the floor for a Q&A session. All questions are welcome—whether related to the office hour topic or other topics relevant to your participation in the program.
URL:https://www.scchousingauthority.org/event/monthly-owner-office-hour-aug-13/
LOCATION:Online
CATEGORIES:For Owners
END:VEVENT
BEGIN:VEVENT
DTSTART;TZID=America/Los_Angeles:20250709T100000
DTEND;TZID=America/Los_Angeles:20250709T110000
DTSTAMP:20260424T031153
CREATED:20250702T075708Z
LAST-MODIFIED:20250702T075708Z
UID:4530-1752055200-1752058800@www.scchousingauthority.org
SUMMARY:Monthly Owner Office Hour - Jul 9
DESCRIPTION:Topic | Understanding the Rent Adjustment Process: What Owners Need to Know. Following the overview of the stated topic\, we’ll open the floor for a Q&A session. All questions are welcome—whether related to the office hour topic or other topics relevant to your participation in the program.
URL:https://www.scchousingauthority.org/event/monthly-owner-office-hour-jul-9/
LOCATION:Online
CATEGORIES:For Owners
END:VEVENT
BEGIN:VEVENT
DTSTART;TZID=America/Los_Angeles:20250423T130000
DTEND;TZID=America/Los_Angeles:20250423T140000
DTSTAMP:20260424T031153
CREATED:20250304T025806Z
LAST-MODIFIED:20250627T194250Z
UID:4175-1745413200-1745416800@www.scchousingauthority.org
SUMMARY:Vietnamese: SAFMR Informational Session - April 23
DESCRIPTION:Join us for an informative session on Small Area Fair Market Rents (SAFMRs) to learn about their purpose\, implementation\, and benefits. This overview will provide valuable information into how SAFMRs can enhance housing opportunities for program participants and offer advantages for property owners.
URL:https://www.scchousingauthority.org/event/safmr-informational-session-april-23-vietnamese/
LOCATION:Santa Clara County Housing Authority\, 505 W. Julian St\, San José\, CA\, 95110\, United States
CATEGORIES:General
END:VEVENT
BEGIN:VEVENT
DTSTART;TZID=America/Los_Angeles:20250415T100000
DTEND;TZID=America/Los_Angeles:20250415T110000
DTSTAMP:20260424T031153
CREATED:20250304T025623Z
LAST-MODIFIED:20250304T030350Z
UID:4174-1744711200-1744714800@www.scchousingauthority.org
SUMMARY:Spanish: SAFMR Informational Session - April 15
DESCRIPTION:Join us for an informative session on Small Area Fair Market Rents (SAFMRs) to learn about their purpose\, implementation\, and benefits. This overview will provide valuable information into how SAFMRs can enhance housing opportunities for program participants and offer advantages for property owners.
URL:https://www.scchousingauthority.org/event/safmr-informational-session-april-15-spanish/
LOCATION:Santa Clara County Housing Authority\, 505 W. Julian St\, San José\, CA\, 95110\, United States
CATEGORIES:General
END:VEVENT
BEGIN:VEVENT
DTSTART;TZID=America/Los_Angeles:20250401T130000
DTEND;TZID=America/Los_Angeles:20250401T140000
DTSTAMP:20260424T031153
CREATED:20250304T025427Z
LAST-MODIFIED:20250304T030404Z
UID:4173-1743512400-1743516000@www.scchousingauthority.org
SUMMARY:Vietnamese: SAFMR Informational Session - April 1
DESCRIPTION:Join us for an informative session on Small Area Fair Market Rents (SAFMRs) to learn about their purpose\, implementation\, and benefits. This overview will provide valuable information into how SAFMRs can enhance housing opportunities for program participants and offer advantages for property owners.
URL:https://www.scchousingauthority.org/event/safmr-informational-session-april-1-vietnamese/
CATEGORIES:General
END:VEVENT
BEGIN:VEVENT
DTSTART;TZID=America/Los_Angeles:20250401T130000
DTEND;TZID=America/Los_Angeles:20250401T140000
DTSTAMP:20260424T031153
CREATED:20250304T025142Z
LAST-MODIFIED:20250304T030426Z
UID:4171-1743512400-1743516000@www.scchousingauthority.org
SUMMARY:Spanish: SAFMR Informational Session - April 1
DESCRIPTION:Join us for an informative session on Small Area Fair Market Rents (SAFMRs) to learn about their purpose\, implementation\, and benefits. This overview will provide valuable information into how SAFMRs can enhance housing opportunities for program participants and offer advantages for property owners.
URL:https://www.scchousingauthority.org/event/safmr-informational-session-april-1-spanish/
LOCATION:Online
CATEGORIES:General
END:VEVENT
BEGIN:VEVENT
DTSTART;TZID=America/Los_Angeles:20250327T130000
DTEND;TZID=America/Los_Angeles:20250327T140000
DTSTAMP:20260424T031153
CREATED:20241211T091417Z
LAST-MODIFIED:20241211T091417Z
UID:4051-1743080400-1743084000@www.scchousingauthority.org
SUMMARY:SAFMR Informational Session - March 27
DESCRIPTION:Join us for an informative session on Small Area Fair Market Rents (SAFMRs) to learn about their purpose\, implementation\, and benefits. This overview will provide valuable information into how SAFMRs can enhance housing opportunities for program participants and offer advantages for property owners.
URL:https://www.scchousingauthority.org/event/safmr-informational-session-march-27/
LOCATION:Online
CATEGORIES:General
END:VEVENT
BEGIN:VEVENT
DTSTART;TZID=America/Los_Angeles:20250319T170000
DTEND;TZID=America/Los_Angeles:20250319T180000
DTSTAMP:20260424T031153
CREATED:20250214T185532Z
LAST-MODIFIED:20250214T185532Z
UID:4143-1742403600-1742407200@www.scchousingauthority.org
SUMMARY:SAFMR Informational Session - March 19
DESCRIPTION:Join us for an informative session on Small Area Fair Market Rents (SAFMRs) to learn about their purpose\, implementation\, and benefits. This overview will provide valuable information into how SAFMRs can enhance housing opportunities for program participants and offer advantages for property owners.
URL:https://www.scchousingauthority.org/event/safmr-informational-session-march-19-2/
LOCATION:Santa Clara County Housing Authority\, 505 W. Julian St\, San José\, CA\, 95110\, United States
CATEGORIES:General
END:VEVENT
BEGIN:VEVENT
DTSTART;TZID=America/Los_Angeles:20250319T100000
DTEND;TZID=America/Los_Angeles:20250319T110000
DTSTAMP:20260424T031153
CREATED:20241211T091417Z
LAST-MODIFIED:20241211T091417Z
UID:4050-1742378400-1742382000@www.scchousingauthority.org
SUMMARY:SAFMR Informational Session - March 19
DESCRIPTION:Join us for an informative session on Small Area Fair Market Rents (SAFMRs) to learn about their purpose\, implementation\, and benefits. This overview will provide valuable information into how SAFMRs can enhance housing opportunities for program participants and offer advantages for property owners.
URL:https://www.scchousingauthority.org/event/safmr-informational-session-march-19/
LOCATION:Online
CATEGORIES:General
END:VEVENT
BEGIN:VEVENT
DTSTART;TZID=America/Los_Angeles:20250311T170000
DTEND;TZID=America/Los_Angeles:20250311T180000
DTSTAMP:20260424T031153
CREATED:20241211T091317Z
LAST-MODIFIED:20241211T091317Z
UID:4049-1741712400-1741716000@www.scchousingauthority.org
SUMMARY:SAFMR Informational Session - March 11
DESCRIPTION:Join us for an informative session on Small Area Fair Market Rents (SAFMRs) to learn about their purpose\, implementation\, and benefits. This overview will provide valuable information into how SAFMRs can enhance housing opportunities for program participants and offer advantages for property owners.
URL:https://www.scchousingauthority.org/event/safmr-informational-session-march-11/
LOCATION:Online
CATEGORIES:General
END:VEVENT
BEGIN:VEVENT
DTSTART;TZID=America/Los_Angeles:20250311T100000
DTEND;TZID=America/Los_Angeles:20250311T110000
DTSTAMP:20260424T031153
CREATED:20250214T185402Z
LAST-MODIFIED:20250214T185402Z
UID:4140-1741687200-1741690800@www.scchousingauthority.org
SUMMARY:SAFMR Informational Session - March 11
DESCRIPTION:Join us for an informative session on Small Area Fair Market Rents (SAFMRs) to learn about their purpose\, implementation\, and benefits. This overview will provide valuable information into how SAFMRs can enhance housing opportunities for program participants and offer advantages for property owners.
URL:https://www.scchousingauthority.org/event/safmr-informational-session-march-11-2/
LOCATION:Santa Clara County Housing Authority\, 505 W. Julian St\, San José\, CA\, 95110\, United States
CATEGORIES:General
END:VEVENT
BEGIN:VEVENT
DTSTART;TZID=America/Los_Angeles:20250306T130000
DTEND;TZID=America/Los_Angeles:20250306T140000
DTSTAMP:20260424T031153
CREATED:20241211T091317Z
LAST-MODIFIED:20241211T091317Z
UID:4048-1741266000-1741269600@www.scchousingauthority.org
SUMMARY:SAFMR Informational Session - March 6
DESCRIPTION:Join us for an informative session on Small Area Fair Market Rents (SAFMRs) to learn about their purpose\, implementation\, and benefits. This overview will provide valuable information into how SAFMRs can enhance housing opportunities for program participants and offer advantages for property owners.
URL:https://www.scchousingauthority.org/event/safmr-informational-session-march-6/
LOCATION:Online
CATEGORIES:General
END:VEVENT
BEGIN:VEVENT
DTSTART;TZID=America/Los_Angeles:20250226T130000
DTEND;TZID=America/Los_Angeles:20250226T140000
DTSTAMP:20260424T031153
CREATED:20250214T184258Z
LAST-MODIFIED:20250214T184604Z
UID:4135-1740574800-1740578400@www.scchousingauthority.org
SUMMARY:SAFMR Informational Session - February 26
DESCRIPTION:Join us for an informative session on Small Area Fair Market Rents (SAFMRs) to learn about their purpose\, implementation\, and benefits. This overview will provide valuable information into how SAFMRs can enhance housing opportunities for program participants and offer advantages for property owners.
URL:https://www.scchousingauthority.org/event/safmr-informational-session-february-26-2/
LOCATION:Santa Clara County Housing Authority\, 505 W. Julian St\, San José\, CA\, 95110\, United States
CATEGORIES:General
END:VEVENT
BEGIN:VEVENT
DTSTART;TZID=America/Los_Angeles:20250226T100000
DTEND;TZID=America/Los_Angeles:20250226T110000
DTSTAMP:20260424T031153
CREATED:20241211T091317Z
LAST-MODIFIED:20241211T091317Z
UID:4047-1740564000-1740567600@www.scchousingauthority.org
SUMMARY:SAFMR Informational Session - February 26
DESCRIPTION:Join us for an informative session on Small Area Fair Market Rents (SAFMRs) to learn about their purpose\, implementation\, and benefits. This overview will provide valuable information into how SAFMRs can enhance housing opportunities for program participants and offer advantages for property owners.
URL:https://www.scchousingauthority.org/event/safmr-informational-session-february-26/
LOCATION:Online
CATEGORIES:General
END:VEVENT
BEGIN:VEVENT
DTSTART;TZID=America/Los_Angeles:20250218T170000
DTEND;TZID=America/Los_Angeles:20250218T180000
DTSTAMP:20260424T031153
CREATED:20241211T091317Z
LAST-MODIFIED:20241211T091317Z
UID:4046-1739898000-1739901600@www.scchousingauthority.org
SUMMARY:SAFMR Informational Session - February 18
DESCRIPTION:Join us for an informative session on Small Area Fair Market Rents (SAFMRs) to learn about their purpose\, implementation\, and benefits. This overview will provide valuable information into how SAFMRs can enhance housing opportunities for program participants and offer advantages for property owners.
URL:https://www.scchousingauthority.org/event/safmr-informational-session-february-18/
LOCATION:Online
CATEGORIES:General
END:VEVENT
BEGIN:VEVENT
DTSTART;TZID=America/Los_Angeles:20250213T130000
DTEND;TZID=America/Los_Angeles:20250213T140000
DTSTAMP:20260424T031153
CREATED:20241211T091317Z
LAST-MODIFIED:20241211T091317Z
UID:4045-1739451600-1739455200@www.scchousingauthority.org
SUMMARY:SAFMR Informational Session - February 13
DESCRIPTION:Join us for an informative session on Small Area Fair Market Rents (SAFMRs) to learn about their purpose\, implementation\, and benefits. This overview will provide valuable information into how SAFMRs can enhance housing opportunities for program participants and offer advantages for property owners.
URL:https://www.scchousingauthority.org/event/safmr-informational-session-february-13/
LOCATION:Online
CATEGORIES:General
END:VEVENT
BEGIN:VEVENT
DTSTART;TZID=America/Los_Angeles:20250205T100000
DTEND;TZID=America/Los_Angeles:20250205T110000
DTSTAMP:20260424T031153
CREATED:20241211T091217Z
LAST-MODIFIED:20241211T091217Z
UID:4044-1738749600-1738753200@www.scchousingauthority.org
SUMMARY:SAFMR Informational Session - February 5
DESCRIPTION:Join us for an informative session on Small Area Fair Market Rents (SAFMRs) to learn about their purpose\, implementation\, and benefits. This overview will provide valuable information into how SAFMRs can enhance housing opportunities for program participants and offer advantages for property owners.
URL:https://www.scchousingauthority.org/event/safmr-informational-session-february-5/
LOCATION:Online
CATEGORIES:General
END:VEVENT
BEGIN:VEVENT
DTSTART;TZID=America/Los_Angeles:20250128T170000
DTEND;TZID=America/Los_Angeles:20250128T180000
DTSTAMP:20260424T031153
CREATED:20241211T091217Z
LAST-MODIFIED:20241211T091217Z
UID:4043-1738083600-1738087200@www.scchousingauthority.org
SUMMARY:SAFMR Informational Session - January 28
DESCRIPTION:Join us for an informative session on Small Area Fair Market Rents (SAFMRs) to learn about their purpose\, implementation\, and benefits. This overview will provide valuable information into how SAFMRs can enhance housing opportunities for program participants and offer advantages for property owners.
URL:https://www.scchousingauthority.org/event/safmr-informational-session-january-28/
LOCATION:Online
CATEGORIES:General
END:VEVENT
BEGIN:VEVENT
DTSTART;TZID=America/Los_Angeles:20250123T130000
DTEND;TZID=America/Los_Angeles:20250123T140000
DTSTAMP:20260424T031153
CREATED:20241211T091216Z
LAST-MODIFIED:20241211T091216Z
UID:4042-1737637200-1737640800@www.scchousingauthority.org
SUMMARY:SAFMR Informational Session - January 23
DESCRIPTION:Join us for an informative session on Small Area Fair Market Rents (SAFMRs) to learn about their purpose\, implementation\, and benefits. This overview will provide valuable information into how SAFMRs can enhance housing opportunities for program participants and offer advantages for property owners.
URL:https://www.scchousingauthority.org/event/safmr-informational-session-january-23/
LOCATION:Online
CATEGORIES:General
END:VEVENT
BEGIN:VEVENT
DTSTART;TZID=America/Los_Angeles:20250115T100000
DTEND;TZID=America/Los_Angeles:20250115T110000
DTSTAMP:20260424T031153
CREATED:20241211T091216Z
LAST-MODIFIED:20241211T091216Z
UID:4041-1736935200-1736938800@www.scchousingauthority.org
SUMMARY:SAFMR Informational Session - January 15
DESCRIPTION:Join us for an informative session on Small Area Fair Market Rents (SAFMRs) to learn about their purpose\, implementation\, and benefits. This overview will provide valuable information into how SAFMRs can enhance housing opportunities for program participants and offer advantages for property owners.
URL:https://www.scchousingauthority.org/event/safmr-informational-session-january-15/
LOCATION:Online
CATEGORIES:General
END:VEVENT
BEGIN:VEVENT
DTSTART;TZID=America/Los_Angeles:20250107T170000
DTEND;TZID=America/Los_Angeles:20250107T180000
DTSTAMP:20260424T031153
CREATED:20241211T091215Z
LAST-MODIFIED:20241211T091215Z
UID:4040-1736269200-1736272800@www.scchousingauthority.org
SUMMARY:SAFMR Informational Session - January 7
DESCRIPTION:Join us for an informative session on Small Area Fair Market Rents (SAFMRs) to learn about their purpose\, implementation\, and benefits. This overview will provide valuable information into how SAFMRs can enhance housing opportunities for program participants and offer advantages for property owners.
URL:https://www.scchousingauthority.org/event/safmr-informational-session-january-7/
LOCATION:Online
CATEGORIES:General
END:VEVENT
BEGIN:VEVENT
DTSTART;TZID=America/Los_Angeles:20241230T130000
DTEND;TZID=America/Los_Angeles:20241230T140000
DTSTAMP:20260424T031153
CREATED:20241211T091215Z
LAST-MODIFIED:20241211T091215Z
UID:4039-1735563600-1735567200@www.scchousingauthority.org
SUMMARY:SAFMR Informational Session - December 30
DESCRIPTION:Join us for an informative session on Small Area Fair Market Rents (SAFMRs) to learn about their purpose\, implementation\, and benefits. This overview will provide valuable information into how SAFMRs can enhance housing opportunities for program participants and offer advantages for property owners.
URL:https://www.scchousingauthority.org/event/safmr-informational-session-december-30/
LOCATION:Online
CATEGORIES:General
END:VEVENT
BEGIN:VEVENT
DTSTART;TZID=America/Los_Angeles:20241227T100000
DTEND;TZID=America/Los_Angeles:20241227T110000
DTSTAMP:20260424T031153
CREATED:20241211T091215Z
LAST-MODIFIED:20241211T091215Z
UID:4038-1735293600-1735297200@www.scchousingauthority.org
SUMMARY:SAFMR Informational Session  - December 27
DESCRIPTION:Join us for an informative session on Small Area Fair Market Rents (SAFMRs) to learn about their purpose\, implementation\, and benefits. This overview will provide valuable information into how SAFMRs can enhance housing opportunities for program participants and offer advantages for property owners.
URL:https://www.scchousingauthority.org/event/safmr-informational-session-december-27/
LOCATION:Online
CATEGORIES:General
END:VEVENT
BEGIN:VEVENT
DTSTART;TZID=America/Los_Angeles:20241219T180000
DTEND;TZID=America/Los_Angeles:20241219T190000
DTSTAMP:20260424T031153
CREATED:20241010T091530Z
LAST-MODIFIED:20241010T091530Z
UID:3947-1734631200-1734634800@www.scchousingauthority.org
SUMMARY:Applicant Workshop - Dec 19
DESCRIPTION:Essential Applicant Workshop: Come join our free workshops to learn how to use the updated Rent Café software.
URL:https://www.scchousingauthority.org/event/applicant-workshop-dec-19/
LOCATION:Online
CATEGORIES:For Applicants
END:VEVENT
BEGIN:VEVENT
DTSTART;TZID=America/Los_Angeles:20241219T140000
DTEND;TZID=America/Los_Angeles:20241219T150000
DTSTAMP:20260424T031153
CREATED:20241010T091530Z
LAST-MODIFIED:20241010T091530Z
UID:3948-1734616800-1734620400@www.scchousingauthority.org
SUMMARY:Resident Workshop - Dec 19
DESCRIPTION:Essential Tenant Workshop: Come join our free workshops to learn how to use the updated Rent Café software.
URL:https://www.scchousingauthority.org/event/resident-workshop-dec-19/
LOCATION:Online
CATEGORIES:For Tenants
END:VEVENT
BEGIN:VEVENT
DTSTART;TZID=America/Los_Angeles:20241218T140000
DTEND;TZID=America/Los_Angeles:20241218T150000
DTSTAMP:20260424T031153
CREATED:20241010T091431Z
LAST-MODIFIED:20241010T091431Z
UID:3946-1734530400-1734534000@www.scchousingauthority.org
SUMMARY:Resident Workshop - Dec 18
DESCRIPTION:Essential Tenant Workshop: Come join our free workshops to learn how to use the updated Rent Café software.
URL:https://www.scchousingauthority.org/event/resident-workshop-dec-18/
LOCATION:Online
CATEGORIES:For Tenants
END:VEVENT
END:VCALENDAR