BEGIN:VCALENDAR
VERSION:2.0
PRODID:-//SCCHA - ECPv6.15.20//NONSGML v1.0//EN
CALSCALE:GREGORIAN
METHOD:PUBLISH
X-WR-CALNAME:SCCHA
X-ORIGINAL-URL:https://www.scchousingauthority.org
X-WR-CALDESC:Events for SCCHA
REFRESH-INTERVAL;VALUE=DURATION:PT1H
X-Robots-Tag:noindex
X-PUBLISHED-TTL:PT1H
BEGIN:VTIMEZONE
TZID:America/Los_Angeles
BEGIN:DAYLIGHT
TZOFFSETFROM:-0800
TZOFFSETTO:-0700
TZNAME:PDT
DTSTART:20230312T100000
END:DAYLIGHT
BEGIN:STANDARD
TZOFFSETFROM:-0700
TZOFFSETTO:-0800
TZNAME:PST
DTSTART:20231105T090000
END:STANDARD
BEGIN:DAYLIGHT
TZOFFSETFROM:-0800
TZOFFSETTO:-0700
TZNAME:PDT
DTSTART:20240310T100000
END:DAYLIGHT
BEGIN:STANDARD
TZOFFSETFROM:-0700
TZOFFSETTO:-0800
TZNAME:PST
DTSTART:20241103T090000
END:STANDARD
BEGIN:DAYLIGHT
TZOFFSETFROM:-0800
TZOFFSETTO:-0700
TZNAME:PDT
DTSTART:20250309T100000
END:DAYLIGHT
BEGIN:STANDARD
TZOFFSETFROM:-0700
TZOFFSETTO:-0800
TZNAME:PST
DTSTART:20251102T090000
END:STANDARD
BEGIN:DAYLIGHT
TZOFFSETFROM:-0800
TZOFFSETTO:-0700
TZNAME:PDT
DTSTART:20260308T100000
END:DAYLIGHT
BEGIN:STANDARD
TZOFFSETFROM:-0700
TZOFFSETTO:-0800
TZNAME:PST
DTSTART:20261101T090000
END:STANDARD
END:VTIMEZONE
BEGIN:VEVENT
DTSTART;TZID=America/Los_Angeles:20250107T170000
DTEND;TZID=America/Los_Angeles:20250107T180000
DTSTAMP:20260424T061552
CREATED:20241211T091215Z
LAST-MODIFIED:20241211T091215Z
UID:4040-1736269200-1736272800@www.scchousingauthority.org
SUMMARY:SAFMR Informational Session - January 7
DESCRIPTION:Join us for an informative session on Small Area Fair Market Rents (SAFMRs) to learn about their purpose\, implementation\, and benefits. This overview will provide valuable information into how SAFMRs can enhance housing opportunities for program participants and offer advantages for property owners.
URL:https://www.scchousingauthority.org/event/safmr-informational-session-january-7/
LOCATION:Online
CATEGORIES:General
END:VEVENT
BEGIN:VEVENT
DTSTART;TZID=America/Los_Angeles:20241230T130000
DTEND;TZID=America/Los_Angeles:20241230T140000
DTSTAMP:20260424T061552
CREATED:20241211T091215Z
LAST-MODIFIED:20241211T091215Z
UID:4039-1735563600-1735567200@www.scchousingauthority.org
SUMMARY:SAFMR Informational Session - December 30
DESCRIPTION:Join us for an informative session on Small Area Fair Market Rents (SAFMRs) to learn about their purpose\, implementation\, and benefits. This overview will provide valuable information into how SAFMRs can enhance housing opportunities for program participants and offer advantages for property owners.
URL:https://www.scchousingauthority.org/event/safmr-informational-session-december-30/
LOCATION:Online
CATEGORIES:General
END:VEVENT
BEGIN:VEVENT
DTSTART;TZID=America/Los_Angeles:20241227T100000
DTEND;TZID=America/Los_Angeles:20241227T110000
DTSTAMP:20260424T061552
CREATED:20241211T091215Z
LAST-MODIFIED:20241211T091215Z
UID:4038-1735293600-1735297200@www.scchousingauthority.org
SUMMARY:SAFMR Informational Session  - December 27
DESCRIPTION:Join us for an informative session on Small Area Fair Market Rents (SAFMRs) to learn about their purpose\, implementation\, and benefits. This overview will provide valuable information into how SAFMRs can enhance housing opportunities for program participants and offer advantages for property owners.
URL:https://www.scchousingauthority.org/event/safmr-informational-session-december-27/
LOCATION:Online
CATEGORIES:General
END:VEVENT
BEGIN:VEVENT
DTSTART;TZID=America/Los_Angeles:20241219T180000
DTEND;TZID=America/Los_Angeles:20241219T190000
DTSTAMP:20260424T061552
CREATED:20241010T091530Z
LAST-MODIFIED:20241010T091530Z
UID:3947-1734631200-1734634800@www.scchousingauthority.org
SUMMARY:Applicant Workshop - Dec 19
DESCRIPTION:Essential Applicant Workshop: Come join our free workshops to learn how to use the updated Rent Café software.
URL:https://www.scchousingauthority.org/event/applicant-workshop-dec-19/
LOCATION:Online
CATEGORIES:For Applicants
END:VEVENT
BEGIN:VEVENT
DTSTART;TZID=America/Los_Angeles:20241219T140000
DTEND;TZID=America/Los_Angeles:20241219T150000
DTSTAMP:20260424T061552
CREATED:20241010T091530Z
LAST-MODIFIED:20241010T091530Z
UID:3948-1734616800-1734620400@www.scchousingauthority.org
SUMMARY:Resident Workshop - Dec 19
DESCRIPTION:Essential Tenant Workshop: Come join our free workshops to learn how to use the updated Rent Café software.
URL:https://www.scchousingauthority.org/event/resident-workshop-dec-19/
LOCATION:Online
CATEGORIES:For Tenants
END:VEVENT
BEGIN:VEVENT
DTSTART;TZID=America/Los_Angeles:20241218T140000
DTEND;TZID=America/Los_Angeles:20241218T150000
DTSTAMP:20260424T061552
CREATED:20241010T091431Z
LAST-MODIFIED:20241010T091431Z
UID:3946-1734530400-1734534000@www.scchousingauthority.org
SUMMARY:Resident Workshop - Dec 18
DESCRIPTION:Essential Tenant Workshop: Come join our free workshops to learn how to use the updated Rent Café software.
URL:https://www.scchousingauthority.org/event/resident-workshop-dec-18/
LOCATION:Online
CATEGORIES:For Tenants
END:VEVENT
BEGIN:VEVENT
DTSTART;TZID=America/Los_Angeles:20241217T170000
DTEND;TZID=America/Los_Angeles:20241217T180000
DTSTAMP:20260424T061552
CREATED:20241211T091214Z
LAST-MODIFIED:20241211T091214Z
UID:4037-1734454800-1734458400@www.scchousingauthority.org
SUMMARY:SAFMR Informational Session - December 17
DESCRIPTION:Join us for an informative session on Small Area Fair Market Rents (SAFMRs) to learn about their purpose\, implementation\, and benefits. This overview will provide valuable information into how SAFMRs can enhance housing opportunities for program participants and offer advantages for property owners.
URL:https://www.scchousingauthority.org/event/safmr-informational-session-december-17/
LOCATION:Online
CATEGORIES:General
END:VEVENT
BEGIN:VEVENT
DTSTART;TZID=America/Los_Angeles:20241205T180000
DTEND;TZID=America/Los_Angeles:20241205T190000
DTSTAMP:20260424T061552
CREATED:20241010T091430Z
LAST-MODIFIED:20241010T091430Z
UID:3945-1733421600-1733425200@www.scchousingauthority.org
SUMMARY:Applicant Workshop - Dec 5
DESCRIPTION:Essential Applicant Workshop: Come join our free workshops to learn how to use the updated Rent Café software.
URL:https://www.scchousingauthority.org/event/applicant-workshop-dec-5/
LOCATION:Online
CATEGORIES:For Applicants
END:VEVENT
BEGIN:VEVENT
DTSTART;TZID=America/Los_Angeles:20241204T100000
DTEND;TZID=America/Los_Angeles:20241204T110000
DTSTAMP:20260424T061552
CREATED:20241010T091430Z
LAST-MODIFIED:20241010T091430Z
UID:3944-1733306400-1733310000@www.scchousingauthority.org
SUMMARY:Resident Workshop - Dec 4
DESCRIPTION:Essential Tenant Workshop: Come join our free workshops to learn how to use the updated Rent Café software.
URL:https://www.scchousingauthority.org/event/resident-workshop-dec-4/
LOCATION:Online
CATEGORIES:For Tenants
END:VEVENT
BEGIN:VEVENT
DTSTART;TZID=America/Los_Angeles:20241203T100000
DTEND;TZID=America/Los_Angeles:20241203T110000
DTSTAMP:20260424T061552
CREATED:20241010T091430Z
LAST-MODIFIED:20241010T091430Z
UID:3943-1733220000-1733223600@www.scchousingauthority.org
SUMMARY:Resident Workshop - Dec 3
DESCRIPTION:Essential Tenant Workshop: Come join our free workshops to learn how to use the updated Rent Café software.
URL:https://www.scchousingauthority.org/event/resident-workshop-dec-3/
LOCATION:Online
CATEGORIES:For Tenants
END:VEVENT
BEGIN:VEVENT
DTSTART;TZID=America/Los_Angeles:20241121T100000
DTEND;TZID=America/Los_Angeles:20241121T110000
DTSTAMP:20260424T061552
CREATED:20241010T091331Z
LAST-MODIFIED:20241010T091331Z
UID:3942-1732183200-1732186800@www.scchousingauthority.org
SUMMARY:Applicant Workshop - Nov 21
DESCRIPTION:Essential Applicant Workshop: Come join our free workshops to learn how to use the updated Rent Café software.
URL:https://www.scchousingauthority.org/event/applicant-workshop-nov-21/
LOCATION:Online
CATEGORIES:For Applicants
END:VEVENT
BEGIN:VEVENT
DTSTART;TZID=America/Los_Angeles:20241120T100000
DTEND;TZID=America/Los_Angeles:20241120T110000
DTSTAMP:20260424T061552
CREATED:20241010T091331Z
LAST-MODIFIED:20241010T091331Z
UID:3941-1732096800-1732100400@www.scchousingauthority.org
SUMMARY:Resident Workshop - Nov 20
DESCRIPTION:Essential Tenant Workshop: Come join our free workshops to learn how to use the updated Rent Café software.
URL:https://www.scchousingauthority.org/event/resident-workshop-nov-20/
LOCATION:Online
CATEGORIES:For Tenants
END:VEVENT
BEGIN:VEVENT
DTSTART;TZID=America/Los_Angeles:20241119T180000
DTEND;TZID=America/Los_Angeles:20241119T190000
DTSTAMP:20260424T061552
CREATED:20241010T091330Z
LAST-MODIFIED:20241010T091330Z
UID:3940-1732039200-1732042800@www.scchousingauthority.org
SUMMARY:Applicant Workshop - Nov 19
DESCRIPTION:Essential Tenant Workshop: Come join our free workshops to learn how to use the updated Rent Café software.
URL:https://www.scchousingauthority.org/event/applicant-workshop-nov-19/
LOCATION:Online
CATEGORIES:For Tenants
END:VEVENT
BEGIN:VEVENT
DTSTART;TZID=America/Los_Angeles:20241114T140000
DTEND;TZID=America/Los_Angeles:20241114T150000
DTSTAMP:20260424T061552
CREATED:20241010T091330Z
LAST-MODIFIED:20241010T091330Z
UID:3939-1731592800-1731596400@www.scchousingauthority.org
SUMMARY:Owner Workshop - Nov 14
DESCRIPTION:Essential Tenant Workshop: Come join our free workshops to learn how to use the updated Rent Café software.
URL:https://www.scchousingauthority.org/event/owner-workshop-nov-14/
LOCATION:Online
CATEGORIES:For Tenants
END:VEVENT
BEGIN:VEVENT
DTSTART;TZID=America/Los_Angeles:20241113T140000
DTEND;TZID=America/Los_Angeles:20241113T150000
DTSTAMP:20260424T061552
CREATED:20241010T091330Z
LAST-MODIFIED:20241010T091330Z
UID:3938-1731506400-1731510000@www.scchousingauthority.org
SUMMARY:Resident Workshop - Nov 13
DESCRIPTION:Essential Owner Workshop: Come join our free workshops to learn how to use the updated Rent Café software.
URL:https://www.scchousingauthority.org/event/resident-workshop-nov-13/
LOCATION:Online
CATEGORIES:For Owners
END:VEVENT
BEGIN:VEVENT
DTSTART;TZID=America/Los_Angeles:20241112T180000
DTEND;TZID=America/Los_Angeles:20241112T190000
DTSTAMP:20260424T061552
CREATED:20241010T091231Z
LAST-MODIFIED:20241010T091231Z
UID:3937-1731434400-1731438000@www.scchousingauthority.org
SUMMARY:Resident Workshop - Nov 12
DESCRIPTION:Essential Tenant Workshop: Come join our free workshops to learn how to use the updated Rent Café software.
URL:https://www.scchousingauthority.org/event/resident-workshop-nov-12/
LOCATION:Online
CATEGORIES:For Tenants
END:VEVENT
BEGIN:VEVENT
DTSTART;TZID=America/Los_Angeles:20241112T140000
DTEND;TZID=America/Los_Angeles:20241112T150000
DTSTAMP:20260424T061552
CREATED:20241010T091231Z
LAST-MODIFIED:20241010T091231Z
UID:3936-1731420000-1731423600@www.scchousingauthority.org
SUMMARY:Applicant Workshop - Nov 12
DESCRIPTION:Essential Applicant Workshop: Come join our free workshops to learn how to use the updated Rent Café software.
URL:https://www.scchousingauthority.org/event/applicant-workshop-nov-12/
LOCATION:Online
CATEGORIES:For Applicants
END:VEVENT
BEGIN:VEVENT
DTSTART;TZID=America/Los_Angeles:20241107T180000
DTEND;TZID=America/Los_Angeles:20241107T190000
DTSTAMP:20260424T061552
CREATED:20241010T091230Z
LAST-MODIFIED:20241010T091230Z
UID:3935-1731002400-1731006000@www.scchousingauthority.org
SUMMARY:Resident Workshop - Nov 7
DESCRIPTION:Essential Tenant Workshop: Come join our free workshops to learn how to use the updated Rent Café software.
URL:https://www.scchousingauthority.org/event/resident-workshop-nov-7/
LOCATION:Online
CATEGORIES:For Tenants
END:VEVENT
BEGIN:VEVENT
DTSTART;TZID=America/Los_Angeles:20241106T100000
DTEND;TZID=America/Los_Angeles:20241106T110000
DTSTAMP:20260424T061552
CREATED:20241010T091230Z
LAST-MODIFIED:20241010T091230Z
UID:3934-1730887200-1730890800@www.scchousingauthority.org
SUMMARY:Applicant Workshop - Nov 6
DESCRIPTION:Essential Applicant Workshop: Come join our free workshops to learn how to use the updated Rent Café software.
URL:https://www.scchousingauthority.org/event/applicant-workshop-nov-6/
LOCATION:Online
CATEGORIES:For Applicants
END:VEVENT
BEGIN:VEVENT
DTSTART;TZID=America/Los_Angeles:20241105T100000
DTEND;TZID=America/Los_Angeles:20241105T110000
DTSTAMP:20260424T061552
CREATED:20241010T091230Z
LAST-MODIFIED:20241010T091230Z
UID:3933-1730800800-1730804400@www.scchousingauthority.org
SUMMARY:Owner Workshop - Nov 5
DESCRIPTION:Essential Tenant Workshop: Come join our free workshops to learn how to use the updated Rent Café software.
URL:https://www.scchousingauthority.org/event/owner-workshop-nov-5/
LOCATION:Online
CATEGORIES:For Tenants
END:VEVENT
BEGIN:VEVENT
DTSTART;TZID=America/Los_Angeles:20241031T140000
DTEND;TZID=America/Los_Angeles:20241031T150000
DTSTAMP:20260424T061552
CREATED:20241010T091131Z
LAST-MODIFIED:20241010T091131Z
UID:3932-1730383200-1730386800@www.scchousingauthority.org
SUMMARY:Resident Workshop - Oct 31
DESCRIPTION:Essential Tenant Workshop: Come join our free workshops to learn how to use the updated Rent Café software.
URL:https://www.scchousingauthority.org/event/resident-workshop-oct-31/
LOCATION:Online
CATEGORIES:For Tenants
END:VEVENT
BEGIN:VEVENT
DTSTART;TZID=America/Los_Angeles:20241030T140000
DTEND;TZID=America/Los_Angeles:20241030T150000
DTSTAMP:20260424T061552
CREATED:20241010T091130Z
LAST-MODIFIED:20241010T091130Z
UID:3931-1730296800-1730300400@www.scchousingauthority.org
SUMMARY:Owner Workshop - Oct 30
DESCRIPTION:Essential Owner Workshop: Come join our free workshops to learn how to use the updated Rent Café software.
URL:https://www.scchousingauthority.org/event/owner-workshop-oct-30/
LOCATION:Online
CATEGORIES:For Owners
END:VEVENT
BEGIN:VEVENT
DTSTART;TZID=America/Los_Angeles:20241029T180000
DTEND;TZID=America/Los_Angeles:20241029T190000
DTSTAMP:20260424T061552
CREATED:20241010T091130Z
LAST-MODIFIED:20241010T091130Z
UID:3930-1730224800-1730228400@www.scchousingauthority.org
SUMMARY:Resident Workshop  - Oct 29
DESCRIPTION:Essential Tenant Workshop: Come join our free workshops to learn how to use the updated Rent Café software.
URL:https://www.scchousingauthority.org/event/resident-workshop-oct-29/
LOCATION:Online
CATEGORIES:For Tenants
END:VEVENT
BEGIN:VEVENT
DTSTART;TZID=America/Los_Angeles:20241029T140000
DTEND;TZID=America/Los_Angeles:20241029T150000
DTSTAMP:20260424T061552
CREATED:20241010T091130Z
LAST-MODIFIED:20241010T091130Z
UID:3929-1730210400-1730214000@www.scchousingauthority.org
SUMMARY:Applicant Workshop - Oct 29
DESCRIPTION:Essential Applicant Workshop: Come join our free workshops to learn how to use the updated Rent Café software.
URL:https://www.scchousingauthority.org/event/applicant-workshop-oct-29/
LOCATION:Online
CATEGORIES:For Applicants
END:VEVENT
BEGIN:VEVENT
DTSTART;TZID=America/Los_Angeles:20241024T180000
DTEND;TZID=America/Los_Angeles:20241024T190000
DTSTAMP:20260424T061552
CREATED:20241010T091031Z
LAST-MODIFIED:20241010T091031Z
UID:3928-1729792800-1729796400@www.scchousingauthority.org
SUMMARY:Resident Workshop - Oct 24
DESCRIPTION:Essential Tenant Workshop: Come join our free workshops to learn how to use the updated Rent Café software.
URL:https://www.scchousingauthority.org/event/resident-workshop-oct-24/
LOCATION:Online
CATEGORIES:For Tenants
END:VEVENT
BEGIN:VEVENT
DTSTART;TZID=America/Los_Angeles:20241023T100000
DTEND;TZID=America/Los_Angeles:20241023T110000
DTSTAMP:20260424T061552
CREATED:20241010T091030Z
LAST-MODIFIED:20241010T091030Z
UID:3927-1729677600-1729681200@www.scchousingauthority.org
SUMMARY:Applicant Workshop - Oct 23
DESCRIPTION:Essential Applicant Workshop: Come join our free workshops to learn how to use the updated Rent Café software.
URL:https://www.scchousingauthority.org/event/applicant-workshop-oct-23/
LOCATION:Online
CATEGORIES:For Applicants
END:VEVENT
BEGIN:VEVENT
DTSTART;TZID=America/Los_Angeles:20241022T180000
DTEND;TZID=America/Los_Angeles:20241022T190000
DTSTAMP:20260424T061552
CREATED:20241010T091030Z
LAST-MODIFIED:20241010T091030Z
UID:3926-1729620000-1729623600@www.scchousingauthority.org
SUMMARY:Owner Workshop - Oct 22
DESCRIPTION:Essential Owner Workshop: Come join our free workshops to learn how to use the updated Rent Café software.
URL:https://www.scchousingauthority.org/event/owner-workshop-oct-22/
LOCATION:Online
CATEGORIES:For Owners
END:VEVENT
BEGIN:VEVENT
DTSTART;TZID=America/Los_Angeles:20241022T100000
DTEND;TZID=America/Los_Angeles:20241022T110000
DTSTAMP:20260424T061552
CREATED:20241010T091030Z
LAST-MODIFIED:20241010T091030Z
UID:3925-1729591200-1729594800@www.scchousingauthority.org
SUMMARY:Resident Workshop - Oct 22
DESCRIPTION:Essential Tenant Workshop: Come join our free workshops to learn how to use the updated Rent Café software.
URL:https://www.scchousingauthority.org/event/resident-workshop-oct-22/
LOCATION:Online
CATEGORIES:For Tenants
END:VEVENT
BEGIN:VEVENT
DTSTART;TZID=America/Los_Angeles:20241017T180000
DTEND;TZID=America/Los_Angeles:20241017T190000
DTSTAMP:20260424T061552
CREATED:20241010T091029Z
LAST-MODIFIED:20241010T091029Z
UID:3924-1729188000-1729191600@www.scchousingauthority.org
SUMMARY:Resident Workshop - Oct 17
DESCRIPTION:Essential Tenant Workshop: Come join our free workshops to learn how to use the updated Rent Café software.
URL:https://www.scchousingauthority.org/event/resident-workshop-oct-17/
LOCATION:Online
CATEGORIES:For Tenants
END:VEVENT
BEGIN:VEVENT
DTSTART;TZID=America/Los_Angeles:20241017T140000
DTEND;TZID=America/Los_Angeles:20241017T150000
DTSTAMP:20260424T061552
CREATED:20241010T091028Z
LAST-MODIFIED:20241010T091028Z
UID:3923-1729173600-1729177200@www.scchousingauthority.org
SUMMARY:Applicant Workshop - Oct 17
DESCRIPTION:Essential Tenant Workshop: Come join our free workshops to learn how to use the updated Rent Café software.
URL:https://www.scchousingauthority.org/event/applicant-workshop-oct-17/
LOCATION:Online
CATEGORIES:For Tenants
END:VEVENT
END:VCALENDAR