BEGIN:VCALENDAR
VERSION:2.0
PRODID:-//SCCHA - ECPv6.15.17.1//NONSGML v1.0//EN
CALSCALE:GREGORIAN
METHOD:PUBLISH
X-ORIGINAL-URL:https://www.scchousingauthority.org
X-WR-CALDESC:Events for SCCHA
REFRESH-INTERVAL;VALUE=DURATION:PT1H
X-Robots-Tag:noindex
X-PUBLISHED-TTL:PT1H
BEGIN:VTIMEZONE
TZID:America/Los_Angeles
BEGIN:DAYLIGHT
TZOFFSETFROM:-0800
TZOFFSETTO:-0700
TZNAME:PDT
DTSTART:20240310T100000
END:DAYLIGHT
BEGIN:STANDARD
TZOFFSETFROM:-0700
TZOFFSETTO:-0800
TZNAME:PST
DTSTART:20241103T090000
END:STANDARD
BEGIN:DAYLIGHT
TZOFFSETFROM:-0800
TZOFFSETTO:-0700
TZNAME:PDT
DTSTART:20250309T100000
END:DAYLIGHT
BEGIN:STANDARD
TZOFFSETFROM:-0700
TZOFFSETTO:-0800
TZNAME:PST
DTSTART:20251102T090000
END:STANDARD
BEGIN:DAYLIGHT
TZOFFSETFROM:-0800
TZOFFSETTO:-0700
TZNAME:PDT
DTSTART:20260308T100000
END:DAYLIGHT
BEGIN:STANDARD
TZOFFSETFROM:-0700
TZOFFSETTO:-0800
TZNAME:PST
DTSTART:20261101T090000
END:STANDARD
END:VTIMEZONE
BEGIN:VEVENT
DTSTART;TZID=America/Los_Angeles:20250910T100000
DTEND;TZID=America/Los_Angeles:20250910T110000
DTSTAMP:20260422T024239
CREATED:20250702T075709Z
LAST-MODIFIED:20250702T075709Z
UID:4532-1757498400-1757502000@www.scchousingauthority.org
SUMMARY:Monthly Owner Office Hour - Sep 10
DESCRIPTION:Topic | Managing Changes: Submitting Owner and Payee Updates. Following the overview of the stated topic\, we’ll open the floor for a Q&A session. All questions are welcome—whether related to the office hour topic or other topics relevant to your participation in the program.
URL:https://www.scchousingauthority.org/event/monthly-owner-office-hour-sep-10/
LOCATION:Online
CATEGORIES:For Owners
END:VEVENT
BEGIN:VEVENT
DTSTART;TZID=America/Los_Angeles:20251014T110000
DTEND;TZID=America/Los_Angeles:20251014T120000
DTSTAMP:20260422T024239
CREATED:20250926T101353Z
LAST-MODIFIED:20250926T101638Z
UID:4717-1760439600-1760443200@www.scchousingauthority.org
SUMMARY:Monthly Applicant Info Sessions - Oct 14
DESCRIPTION:Learn about the Housing Choice Voucher (HCV) and Project-Based Voucher (PBV) programs\, understand the interest lists and application process\, and get answers to common questions.
URL:https://www.scchousingauthority.org/event/monthly-applicant-info-sessions-oct-14/
LOCATION:Online
CATEGORIES:For Applicants
END:VEVENT
END:VCALENDAR