BEGIN:VCALENDAR
VERSION:2.0
PRODID:-//SCCHA - ECPv6.15.17.1//NONSGML v1.0//EN
CALSCALE:GREGORIAN
METHOD:PUBLISH
X-ORIGINAL-URL:https://www.scchousingauthority.org
X-WR-CALDESC:Events for SCCHA
REFRESH-INTERVAL;VALUE=DURATION:PT1H
X-Robots-Tag:noindex
X-PUBLISHED-TTL:PT1H
BEGIN:VTIMEZONE
TZID:America/Los_Angeles
BEGIN:DAYLIGHT
TZOFFSETFROM:-0800
TZOFFSETTO:-0700
TZNAME:PDT
DTSTART:20250309T100000
END:DAYLIGHT
BEGIN:STANDARD
TZOFFSETFROM:-0700
TZOFFSETTO:-0800
TZNAME:PST
DTSTART:20251102T090000
END:STANDARD
BEGIN:DAYLIGHT
TZOFFSETFROM:-0800
TZOFFSETTO:-0700
TZNAME:PDT
DTSTART:20260308T100000
END:DAYLIGHT
BEGIN:STANDARD
TZOFFSETFROM:-0700
TZOFFSETTO:-0800
TZNAME:PST
DTSTART:20261101T090000
END:STANDARD
BEGIN:DAYLIGHT
TZOFFSETFROM:-0800
TZOFFSETTO:-0700
TZNAME:PDT
DTSTART:20270314T100000
END:DAYLIGHT
BEGIN:STANDARD
TZOFFSETFROM:-0700
TZOFFSETTO:-0800
TZNAME:PST
DTSTART:20271107T090000
END:STANDARD
END:VTIMEZONE
BEGIN:VEVENT
DTSTART;TZID=America/Los_Angeles:20260609T110000
DTEND;TZID=America/Los_Angeles:20260609T120000
DTSTAMP:20260422T045607
CREATED:20260422T084245Z
LAST-MODIFIED:20260422T084629Z
UID:4986-1781002800-1781006400@www.scchousingauthority.org
SUMMARY:Monthly Applicant Info Sessions - Jun 9
DESCRIPTION:Learn about the Housing Choice Voucher (HCV) and Project-Based Voucher (PBV) programs\, understand the interest lists and application process\, and get answers to common questions.
URL:https://www.scchousingauthority.org/event/monthly-applicant-info-sessions-jun-9/
LOCATION:Online
CATEGORIES:For Applicants
END:VEVENT
BEGIN:VEVENT
DTSTART;TZID=America/Los_Angeles:20260714T110000
DTEND;TZID=America/Los_Angeles:20260714T120000
DTSTAMP:20260422T045607
CREATED:20260422T084245Z
LAST-MODIFIED:20260422T084611Z
UID:4987-1784026800-1784030400@www.scchousingauthority.org
SUMMARY:Monthly Applicant Info Sessions - Jul 14
DESCRIPTION:Learn about the Housing Choice Voucher (HCV) and Project-Based Voucher (PBV) programs\, understand the interest lists and application process\, and get answers to common questions.
URL:https://www.scchousingauthority.org/event/monthly-applicant-info-sessions-jul-14/
LOCATION:Online
CATEGORIES:For Applicants
END:VEVENT
BEGIN:VEVENT
DTSTART;TZID=America/Los_Angeles:20260811T110000
DTEND;TZID=America/Los_Angeles:20260811T120000
DTSTAMP:20260422T045607
CREATED:20260422T084245Z
LAST-MODIFIED:20260422T084553Z
UID:4988-1786446000-1786449600@www.scchousingauthority.org
SUMMARY:Monthly Applicant Info Sessions - Aug 11
DESCRIPTION:Learn about the Housing Choice Voucher (HCV) and Project-Based Voucher (PBV) programs\, understand the interest lists and application process\, and get answers to common questions.
URL:https://www.scchousingauthority.org/event/monthly-applicant-info-sessions-aug-11/
LOCATION:Online
CATEGORIES:For Applicants
END:VEVENT
BEGIN:VEVENT
DTSTART;TZID=America/Los_Angeles:20260908T110000
DTEND;TZID=America/Los_Angeles:20260908T120000
DTSTAMP:20260422T045607
CREATED:20260422T084245Z
LAST-MODIFIED:20260422T084537Z
UID:4989-1788865200-1788868800@www.scchousingauthority.org
SUMMARY:Monthly Applicant Info Sessions - Sep 8
DESCRIPTION:Learn about the Housing Choice Voucher (HCV) and Project-Based Voucher (PBV) programs\, understand the interest lists and application process\, and get answers to common questions.
URL:https://www.scchousingauthority.org/event/monthly-applicant-info-sessions-sep-8/
LOCATION:Online
CATEGORIES:For Applicants
END:VEVENT
BEGIN:VEVENT
DTSTART;TZID=America/Los_Angeles:20261013T110000
DTEND;TZID=America/Los_Angeles:20261013T120000
DTSTAMP:20260422T045607
CREATED:20260422T084246Z
LAST-MODIFIED:20260422T084517Z
UID:4990-1791889200-1791892800@www.scchousingauthority.org
SUMMARY:Monthly Applicant Info Sessions - Oct 13
DESCRIPTION:Learn about the Housing Choice Voucher (HCV) and Project-Based Voucher (PBV) programs\, understand the interest lists and application process\, and get answers to common questions.
URL:https://www.scchousingauthority.org/event/monthly-applicant-info-sessions-oct-13/
LOCATION:Online
CATEGORIES:For Applicants
END:VEVENT
BEGIN:VEVENT
DTSTART;TZID=America/Los_Angeles:20261110T110000
DTEND;TZID=America/Los_Angeles:20261110T120000
DTSTAMP:20260422T045607
CREATED:20260422T084247Z
LAST-MODIFIED:20260422T084500Z
UID:4991-1794308400-1794312000@www.scchousingauthority.org
SUMMARY:Monthly Applicant Info Sessions - Nov 10
DESCRIPTION:Learn about the Housing Choice Voucher (HCV) and Project-Based Voucher (PBV) programs\, understand the interest lists and application process\, and get answers to common questions.
URL:https://www.scchousingauthority.org/event/monthly-applicant-info-sessions-nov-10/
LOCATION:Online
CATEGORIES:For Applicants
END:VEVENT
BEGIN:VEVENT
DTSTART;TZID=America/Los_Angeles:20261208T110000
DTEND;TZID=America/Los_Angeles:20261208T120000
DTSTAMP:20260422T045607
CREATED:20260422T084247Z
LAST-MODIFIED:20260422T084433Z
UID:4992-1796727600-1796731200@www.scchousingauthority.org
SUMMARY:Monthly Applicant Info Sessions - Dec 8
DESCRIPTION:Learn about the Housing Choice Voucher (HCV) and Project-Based Voucher (PBV) programs\, understand the interest lists and application process\, and get answers to common questions.
URL:https://www.scchousingauthority.org/event/monthly-applicant-info-sessions-dec-8/
LOCATION:Online
CATEGORIES:For Applicants
END:VEVENT
END:VCALENDAR